BEGIN:VCALENDAR
VERSION:2.0
PRODID:-//SportPlan//Event Calendar//EN
CALSCALE:GREGORIAN
BEGIN:VEVENT
UID:b07a80a3-d7ff-461f-9b62-1a444c53cbac@sportplan.local
DTSTAMP:20260426T011345Z
DTSTART;VALUE=DATE:20260606
DTEND;VALUE=DATE:20260607
SUMMARY:MRK 3. posms - Pingvīnu rogainings
DESCRIPTION:Official LOF info page lists MRK 3. posms - Pingvīnu rogainings on 6 June 2026 in Ērgļi as an amateur rogaining event in the MRK series.
LOCATION:Ērgļi
URL:https://sportplan.vercel.app/da/events/mrk-3-posms-pingvinu-rogainings-ergli-2026-06-06
END:VEVENT
END:VCALENDAR
