BEGIN:VCALENDAR
VERSION:2.0
PRODID:-//SportPlan//Event Calendar//EN
CALSCALE:GREGORIAN
BEGIN:VEVENT
UID:bd6d69c7-bad1-4cd1-b1a2-ca57622429bf@sportplan.local
DTSTAMP:20260426T005818Z
DTSTART;VALUE=DATE:20260704
DTEND;VALUE=DATE:20260705
SUMMARY:Moby Dick Youth Series 17 years
DESCRIPTION:Triathlon Ireland's official race card lists Moby Dick Youth Series 17 years on 4 July 2026 at Claycastle\, Youghal\, County Cork. The junior super-sprint triathlon uses a 400 m open-water swim\, 10 km bike\, and 2.5 km run\, with official federation entry and the organizer website at South Coast TC.
LOCATION:Claycastle\, Youghal
URL:https://sportplan.vercel.app/da/events/moby-dick-youth-series-17-years-2026-07-04
END:VEVENT
END:VCALENDAR
