BEGIN:VCALENDAR
VERSION:2.0
PRODID:-//SportPlan//Event Calendar//EN
CALSCALE:GREGORIAN
BEGIN:VEVENT
UID:06fbbc1c-953f-48c7-87a5-a5ea48d9f05f@sportplan.local
DTSTAMP:20260425T213242Z
DTSTART;VALUE=DATE:20260419
DTEND;VALUE=DATE:20260420
SUMMARY:Mitja Marató d'Empúries
DESCRIPTION:Mitja Marató d'Empúries 2026 forma parte del programa oficial de la Marató d'Empúries y se disputará el domingo 19 de abril de 2026 en L'Escala - Empúries. La página oficial del Ajuntament de L'Escala incluye esta media maratón en la jornada del domingo junto con la maratón y la cursa de 10 km.
LOCATION:l'Escala - Empúries\, Girona\, Cataluña
URL:https://sportplan.vercel.app/da/events/mitja-marato-d-empuries-l-escala-empuries-2026-04-28-21k
END:VEVENT
END:VCALENDAR
