BEGIN:VCALENDAR
VERSION:2.0
PRODID:-//SportPlan//Event Calendar//EN
CALSCALE:GREGORIAN
BEGIN:VEVENT
UID:dcfca0ca-b99a-4bd7-9052-a1e300bf69da@sportplan.local
DTSTAMP:20260425T200204Z
DTSTART;VALUE=DATE:20260426
DTEND;VALUE=DATE:20260427
SUMMARY:Mississauga Marathon
DESCRIPTION:The official 2026 Beneva Mississauga Marathon site frames the event weekend around the “Run Your Story” message and highlights a community celebration built with sponsors\, charity partners and runners across Mississauga. The official registration points to the 2026 marathon weekend on 26 April 2026.
LOCATION:Mississauga
URL:https://sportplan.vercel.app/da/events/mississauga-marathon-mississauga-2026-04-26
END:VEVENT
END:VCALENDAR
