BEGIN:VCALENDAR
VERSION:2.0
PRODID:-//SportPlan//Event Calendar//EN
CALSCALE:GREGORIAN
BEGIN:VEVENT
UID:9b2c565f-d199-475a-84c1-c54f37835f4f@sportplan.local
DTSTAMP:20260425T231622Z
DTSTART;VALUE=DATE:20260704
DTEND;VALUE=DATE:20260705
SUMMARY:Megamarsch Düsseldorf 2026
DESCRIPTION:Megamarsch Düsseldorf 2026 is an official amateur walking challenge in Düsseldorf\, Germany on 4 July 2026. The official Megamarsch Düsseldorf page presents a public 50 kilometre route between the Rhine and surrounding parkland\, starting and finishing at TURU Düsseldorf 1880 e.V.\, with four aid stations and open Eventbrite registration for regular athletes.
LOCATION:TURU Düsseldorf 1880 e. V.\, Düsseldorf
URL:https://sportplan.vercel.app/da/events/megamarsch-duesseldorf-2026-2026-07-04
END:VEVENT
END:VCALENDAR
