BEGIN:VCALENDAR
VERSION:2.0
PRODID:-//SportPlan//Event Calendar//EN
CALSCALE:GREGORIAN
BEGIN:VEVENT
UID:7e4eda9f-98ac-4219-aaa8-62e0abf4e3dc@sportplan.local
DTSTAMP:20260426T011822Z
DTSTART;VALUE=DATE:20260509
DTEND;VALUE=DATE:20260510
SUMMARY:XXV Medio Maratón de El Burgo de Osma
DESCRIPTION:La portada oficial del Club Atletismo Popular Arévacos anuncia el XXV Medio Maratón de El Burgo de Osma para el 9 de mayo de 2026 en El Burgo de Osma\, Soria. El sitio oficial lo presenta junto a la VIII Carrera 8K Manzana de Soria y la XIII Nordic Walking 8K como el principal evento amateur del club para esa fecha.
LOCATION:El Burgo de Osma\, Soria\, Castilla y León
URL:https://sportplan.vercel.app/da/events/medio-maraton-el-burgo-de-osma-el-burgo-de-osma-2026-05-01-21k
END:VEVENT
END:VCALENDAR
