BEGIN:VCALENDAR
VERSION:2.0
PRODID:-//SportPlan//Event Calendar//EN
CALSCALE:GREGORIAN
BEGIN:VEVENT
UID:5d07d352-d4ec-480d-bfc6-a9e0f832fb72@sportplan.local
DTSTAMP:20260425T200311Z
DTSTART;VALUE=DATE:20260118
DTEND;VALUE=DATE:20260119
SUMMARY:Media Maratón los Barruecos 2026
DESCRIPTION:Media Maratón los Barruecos 2026 uses mediamaratonlosbarruecos.org as the official participant-facing website for the 2026 road race around Los Barruecos in Spain. The organizer-owned site is the canonical source for event information\, race updates\, and registration details.
LOCATION:Malpartida de Cáceres\, Cáceres
URL:https://sportplan.vercel.app/da/events/media-marat-n-los-barruecos-2026-malpartida-de-c-ceres-2026-01-18
END:VEVENT
END:VCALENDAR
