BEGIN:VCALENDAR
VERSION:2.0
PRODID:-//SportPlan//Event Calendar//EN
CALSCALE:GREGORIAN
BEGIN:VEVENT
UID:b052eb38-9a4c-41c6-93b4-1b6d48b5c6c0@sportplan.local
DTSTAMP:20260426T030852Z
DTSTART;VALUE=DATE:20260607
DTEND;VALUE=DATE:20260608
SUMMARY:Maratona de Porto Alegre 2026
DESCRIPTION:Official site for the 2026 Maratona Internacional de Porto Alegre\, the long-running Porto Alegre road-running festival in Rio Grande do Sul with marathon-weekend participation information and event updates.
LOCATION:Porto Alegre\, Rio Grande do Sul
URL:https://sportplan.vercel.app/da/events/maratona-de-porto-alegre-2026-porto-alegre-2026-06-07
END:VEVENT
END:VCALENDAR
