BEGIN:VCALENDAR
VERSION:2.0
PRODID:-//SportPlan//Event Calendar//EN
CALSCALE:GREGORIAN
BEGIN:VEVENT
UID:067c2b8c-4550-4be6-946a-def201adb531@sportplan.local
DTSTAMP:20260426T011640Z
DTSTART;VALUE=DATE:20260509
DTEND;VALUE=DATE:20260510
SUMMARY:Maratón Xtremelagos de Covadonga
DESCRIPTION:Maratón Xtremelagos de Covadonga is the official marathon race within the XtremeLagos de Covadonga event on 9 May 2026 in Asturias\, Spain. The official site describes a 42 km mountain marathon with more than 6000 m of accumulated elevation\, starting at El Repelao in Covadonga at 08:00.
LOCATION:Cangas de Onis\, Asturias\, Asturias
URL:https://sportplan.vercel.app/da/events/maraton-xtremelagos-de-covadonga-cangas-de-onis-2026-05-01-42-195k
END:VEVENT
END:VCALENDAR
