BEGIN:VCALENDAR
VERSION:2.0
PRODID:-//SportPlan//Event Calendar//EN
CALSCALE:GREGORIAN
BEGIN:VEVENT
UID:c49adac4-0138-4d00-85b6-13e7aa8d15ef@sportplan.local
DTSTAMP:20260425T213310Z
DTSTART;VALUE=DATE:20271205
DTEND;VALUE=DATE:20271206
SUMMARY:Maratón Valencia Trinidad Alfonso Zurich 2027
DESCRIPTION:Official Maratón Valencia Trinidad Alfonso Zurich site for the annual mass-participation road marathon in Valencia\, Spain. The organizer page is the recurring entrant-facing home for the Valencia marathon\, with event branding\, organizer links\, and participant information for future editions.
LOCATION:Valencia
URL:https://sportplan.vercel.app/da/events/maraton-valencia-trinidad-alfonso-zurich-2027
END:VEVENT
END:VCALENDAR
