BEGIN:VCALENDAR
VERSION:2.0
PRODID:-//SportPlan//Event Calendar//EN
CALSCALE:GREGORIAN
BEGIN:VEVENT
UID:1981e079-379f-4e08-9872-93d60288989a@sportplan.local
DTSTAMP:20260425T213242Z
DTSTART;VALUE=DATE:20260419
DTEND;VALUE=DATE:20260420
SUMMARY:Marató d'Empúries
DESCRIPTION:Marató d'Empúries 2026 se celebrará el domingo 19 de abril de 2026 dentro del programa oficial de la Marató d'Empúries de L'Escala. La página oficial del Ajuntament de L'Escala sitúa la maratón en el Museu d'Arqueologia d'Empúries\, con salida a las 8:30 h y recorrido homologado de 42\,195 km.
LOCATION:l'Escala-Empúries\, Girona\, Cataluña
URL:https://sportplan.vercel.app/da/events/marato-d-empuries-l-escala-empuries-2026-04-28-42k
END:VEVENT
END:VCALENDAR
