BEGIN:VCALENDAR
VERSION:2.0
PRODID:-//SportPlan//Event Calendar//EN
CALSCALE:GREGORIAN
BEGIN:VEVENT
UID:db44574b-540d-410f-84a5-5b949c44d9cb@sportplan.local
DTSTAMP:20260425T200206Z
DTSTART;VALUE=DATE:20260125
DTEND;VALUE=DATE:20260126
SUMMARY:Maratón de Almagro 2026
DESCRIPTION:Maratón de Almagro 2026 uses the official DXT Chip RUN race page as the participant-facing source for this 25 January 2026 road race in Almagro. The live event page publishes the official race regulations\, official results link\, event date\, and the organizer-hosted race poster.
LOCATION:Almagro\, Ciudad Real
URL:https://sportplan.vercel.app/da/events/marat-n-de-almagro-2026-almagro-2026-01-25
END:VEVENT
END:VCALENDAR
