BEGIN:VCALENDAR
VERSION:2.0
PRODID:-//SportPlan//Event Calendar//EN
CALSCALE:GREGORIAN
BEGIN:VEVENT
UID:a189bfd0-a2c2-4873-8d81-3b866aed7f78@sportplan.local
DTSTAMP:20260425T232101Z
DTSTART;VALUE=DATE:20270228
DTEND;VALUE=DATE:20270301
SUMMARY:LifeStar Malta Marathon 2027
DESCRIPTION:LifeStar Malta Marathon 2027 is an official Malta amateur road running event scheduled for 28 February 2027. The official organizer page lists open applications for the marathon\, half marathon\, walk\, 5K\, and kids race formats under the Malta Marathon event umbrella.
LOCATION:Mdina to Sliema
URL:https://sportplan.vercel.app/da/events/lifestar-malta-marathon-2027-mdina-to-sliema-2027-02-28
END:VEVENT
END:VCALENDAR
