BEGIN:VCALENDAR
VERSION:2.0
PRODID:-//SportPlan//Event Calendar//EN
CALSCALE:GREGORIAN
BEGIN:VEVENT
UID:267d6bc7-f610-4bab-9d4b-23a03444f0fd@sportplan.local
DTSTAMP:20260426T024644Z
DTSTART;VALUE=DATE:20260110
DTEND;VALUE=DATE:20260111
SUMMARY:Leśna 12 2026
DESCRIPTION:Official event page says third edition in 2026\; start 10:00\; packages at Dolnośląskie Centrum Sportu Polana Jakuszycka.
LOCATION:Polana Jakuszycka\, Jakuszyce\, Poland
URL:https://sportplan.vercel.app/da/events/lesna-12-2026
END:VEVENT
END:VCALENDAR
