BEGIN:VCALENDAR
VERSION:2.0
PRODID:-//SportPlan//Event Calendar//EN
CALSCALE:GREGORIAN
BEGIN:VEVENT
UID:80b51038-6987-4b42-843c-367372a0a938@sportplan.local
DTSTAMP:20260425T231957Z
DTSTART;VALUE=DATE:20260425
DTEND;VALUE=DATE:20260426
SUMMARY:Les Foulees de Saint Michel
DESCRIPTION:Les Foulees de Saint Michel a lieu le 25 de avril de 2026 à Pierrelatte. C'est un rendez-vous intéressant pour les participants à la recherche d'un événement bien organisé dans un cadre agréable. Le parcours couvre environ 10 km. Consultez les informations officielles de l'organisateur pour les horaires\, le retrait des dossards et les détails logistiques.
LOCATION:Pierrelatte
URL:https://sportplan.vercel.app/da/events/les-foulees-de-saint-michel-pierrelatte-2026-04-25
END:VEVENT
END:VCALENDAR
