BEGIN:VCALENDAR
VERSION:2.0
PRODID:-//SportPlan//Event Calendar//EN
CALSCALE:GREGORIAN
BEGIN:VEVENT
UID:cfb8fc36-8ddd-460d-8bad-ced19fec29c8@sportplan.local
DTSTAMP:20260426T030847Z
DTSTART;VALUE=DATE:20261115
DTEND;VALUE=DATE:20261116
SUMMARY:Laguna Phuket Duathlon 2026
DESCRIPTION:Official Laguna Phuket Triathlon pages list the inaugural amateur duathlon on 15 November 2026 with a 4 km run\, 50 km bike\, and 12 km run. The organizer page also exposes live registration for international participants.
LOCATION:Laguna Phuket
URL:https://sportplan.vercel.app/da/events/laguna-phuket-duathlon-2026-cherngtalay-2026-11-15
END:VEVENT
END:VCALENDAR
