BEGIN:VCALENDAR
VERSION:2.0
PRODID:-//SportPlan//Event Calendar//EN
CALSCALE:GREGORIAN
BEGIN:VEVENT
UID:e9a095d8-f74b-429d-a5dd-cd1b7bbaf8eb@sportplan.local
DTSTAMP:20260425T231621Z
DTSTART;VALUE=DATE:20260425
DTEND;VALUE=DATE:20260426
SUMMARY:L'enfer des Nutons
DESCRIPTION:L'enfer des Nutons a lieu à Fromelennes le 25 avril 2026. C’est un rendez-vous parfait pour profiter d’une belle journée de course\, avec une belle ambiance de course et un parcours adapté à différents profils de coureurs. Que vous visiez la performance ou une expérience plus conviviale\, l’événement promet une ambiance motivante du début à la fin.
LOCATION:Fromelennes
URL:https://sportplan.vercel.app/da/events/l-enfer-des-nutons-fromelennes-2026-04-25
END:VEVENT
END:VCALENDAR
