BEGIN:VCALENDAR
VERSION:2.0
PRODID:-//SportPlan//Event Calendar//EN
CALSCALE:GREGORIAN
BEGIN:VEVENT
UID:702f1c72-85a3-497b-90d9-8abafc012442@sportplan.local
DTSTAMP:20260425T231838Z
DTSTART;VALUE=DATE:20261121
DTEND;VALUE=DATE:20261123
SUMMARY:Kingscliff Triathlon
DESCRIPTION:AusTriathlon lists Kingscliff Triathlon weekend with kids\, enticer\, sprint and standard triathlon races plus aquathlon categories. The page links to the event's official website.
LOCATION:Marine Parade\, Kingscliff
URL:https://sportplan.vercel.app/da/events/kingscliff-triathlon-marine-parade-kingscliff-2026-11-21
END:VEVENT
END:VCALENDAR
