BEGIN:VCALENDAR
VERSION:2.0
PRODID:-//SportPlan//Event Calendar//EN
CALSCALE:GREGORIAN
BEGIN:VEVENT
UID:3dbfff24-f91e-4767-8b44-45f46aa5a7ad@sportplan.local
DTSTAMP:20260425T233438Z
DTSTART;VALUE=DATE:20260814
DTEND;VALUE=DATE:20260816
SUMMARY:KARI Challenge
DESCRIPTION:Official Kenya Cycling Race Series event page for KARI Challenge on 2026-08-14 in KALRO Retreat Centre MUGUGA\, Kenya. Amateur-enterable road-cycling event.
LOCATION:KALRO Retreat Centre MUGUGA
URL:https://sportplan.vercel.app/da/events/kari-challenge-kalro-retreat-centre-muguga-2026-08-14
END:VEVENT
END:VCALENDAR
