BEGIN:VCALENDAR
VERSION:2.0
PRODID:-//SportPlan//Event Calendar//EN
CALSCALE:GREGORIAN
BEGIN:VEVENT
UID:b5e472ee-8de2-400f-8fb3-eae379aa0567@sportplan.local
DTSTAMP:20260426T011639Z
DTSTART;VALUE=DATE:20260920
DTEND;VALUE=DATE:20260921
SUMMARY:IV Triatlo da Casconha
DESCRIPTION:Official FTP 2026 Litoral e Interior Centro calendar event page for IV Triatlo da Casconha. The federation page publishes the 20 September 2026 date and official event materials.
LOCATION:Casconha\, Coimbra\, Portugal
URL:https://sportplan.vercel.app/da/events/iv-triatlo-da-casconha-casconha-2026-09-20
END:VEVENT
END:VCALENDAR
