BEGIN:VCALENDAR
VERSION:2.0
PRODID:-//SportPlan//Event Calendar//EN
CALSCALE:GREGORIAN
BEGIN:VEVENT
UID:e223cbc6-89cd-40fa-b610-3a14acf3b831@sportplan.local
DTSTAMP:20260426T030644Z
DTSTART;VALUE=DATE:20260531
DTEND;VALUE=DATE:20260601
SUMMARY:Ironman Brasil Florianópolis 2026
DESCRIPTION:Official IRONMAN Brazil race page for Florianópolis describes a beachside swim\, scenic rolling-hills bike course\, and flat coastal run. Image backfilled from the official ironman.com race page og:image asset.
LOCATION:Florianópolis\, Santa Catarina
URL:https://sportplan.vercel.app/da/events/ironman-brasil-florian-polis-2026-florian-polis-2026-05-31
END:VEVENT
END:VCALENDAR
