BEGIN:VCALENDAR
VERSION:2.0
PRODID:-//SportPlan//Event Calendar//EN
CALSCALE:GREGORIAN
BEGIN:VEVENT
UID:b0f50a05-d81d-42c3-a04f-1908adc2ef00@sportplan.local
DTSTAMP:20260425T230939Z
DTSTART;VALUE=DATE:20260621
DTEND;VALUE=DATE:20260622
SUMMARY:IRONMAN 70.3 Westfriesland
DESCRIPTION:Experience IRONMAN 70.3 Westfriesland's flat\, fast course through historic Dutch landscapes\, ideal for all levels. Swim in Hoorn's old harbor\, bike past windmills\, and run through scenic city centers.
LOCATION:Hoorn\, Netherlands
URL:https://sportplan.vercel.app/da/events/ironman-70-3-westfriesland-2026-06-21
END:VEVENT
END:VCALENDAR
