BEGIN:VCALENDAR
VERSION:2.0
PRODID:-//SportPlan//Event Calendar//EN
CALSCALE:GREGORIAN
BEGIN:VEVENT
UID:dd1b58f3-cb5c-422d-9c22-46c8ea229371@sportplan.local
DTSTAMP:20260426T005321Z
DTSTART;VALUE=DATE:20260815
DTEND;VALUE=DATE:20260816
SUMMARY:Inferno Half Marathon
DESCRIPTION:Official INFERNO website describes the Inferno Half Marathon & relay as a mountain run with more than 2\,000 metres of elevation and places the trail-running programme in and around Mürren as part of the 2026 INFERNO event weekend.
LOCATION:Mürren\, Switzerland
URL:https://sportplan.vercel.app/da/events/inferno-half-marathon-2026-08-15
END:VEVENT
END:VCALENDAR
