BEGIN:VCALENDAR
VERSION:2.0
PRODID:-//SportPlan//Event Calendar//EN
CALSCALE:GREGORIAN
BEGIN:VEVENT
UID:3abb6059-da02-4bcb-a8d9-ca937f593dd1@sportplan.local
DTSTAMP:20260425T232835Z
DTSTART;VALUE=DATE:20260607
DTEND;VALUE=DATE:20260608
SUMMARY:IM 70.3 DBN
DESCRIPTION:The official Triathlon South Africa event page lists IM 70.3 DBN on Sunday 7 June 2026 at Durban beachfront in KwaZulu-Natal. Verified on the official Triathlon South Africa event page. Readable event details show date 'Sunday\, 7 June'\, location 'Beach Front Durban'\, province 'KwaZulu-Natal'\, and organizer 'IM South Africa'. Duplicate check found no 2026 row matching this title or official URL. No official registration URL or event-specific image was clearly exposed on the TSA page during this pass. Geocoded conservatively to Durban.
LOCATION:Beach Front Durban
URL:https://sportplan.vercel.app/da/events/im-70-3-dbn-durban-2026-06-07
END:VEVENT
END:VCALENDAR
