BEGIN:VCALENDAR
VERSION:2.0
PRODID:-//SportPlan//Event Calendar//EN
CALSCALE:GREGORIAN
BEGIN:VEVENT
UID:8c590f9d-b21c-4064-a4e2-ccadd7d9da10@sportplan.local
DTSTAMP:20260425T213658Z
DTSTART;VALUE=DATE:20260425
DTEND;VALUE=DATE:20260426
SUMMARY:III Aquatlo Jovem de Pinhal Novo
DESCRIPTION:Official FTP 2026 Lisboa e Alto Alentejo calendar event page for a youth aquathlon in Pinhal Novo. The federation page publishes the 25 April 2026 date and participant materials such as regulation and course documents.
LOCATION:Pinhal Novo\, Portugal
URL:https://sportplan.vercel.app/da/events/iii-aquatlo-jovem-de-pinhal-novo-pinhal-novo-2026-04-25
END:VEVENT
END:VCALENDAR
