BEGIN:VCALENDAR
VERSION:2.0
PRODID:-//SportPlan//Event Calendar//EN
CALSCALE:GREGORIAN
BEGIN:VEVENT
UID:d0634ccf-6035-48ad-8e35-8034bd83fcd2@sportplan.local
DTSTAMP:20260425T231109Z
DTSTART;VALUE=DATE:20260523
DTEND;VALUE=DATE:20260524
SUMMARY:II Triatlo e Aquatlo de Sines
DESCRIPTION:Official Federação de Triatlo de Portugal event page for the 2026 II Triatlo e Aquatlo de Sines. The official page presents one future 2026 event edition for Sines on 23 May 2026\; imported conservatively as one canonical amateur-enterable multisport event row from the federation's official calendar.
LOCATION:Sines\, Setúbal\, Portugal
URL:https://sportplan.vercel.app/da/events/ii-triatlo-e-aquatlo-de-sines-2026-05-23
END:VEVENT
END:VCALENDAR
