BEGIN:VCALENDAR
VERSION:2.0
PRODID:-//SportPlan//Event Calendar//EN
CALSCALE:GREGORIAN
BEGIN:VEVENT
UID:2fea9f9b-9039-48d3-b32a-ab4e160b86fe@sportplan.local
DTSTAMP:20260425T213348Z
DTSTART;VALUE=DATE:20260524
DTEND;VALUE=DATE:20260525
SUMMARY:I Trail Pinoso
DESCRIPTION:I Trail Pinoso is the official amateur-enterable trail running event in Pinoso\, Alicante on Sunday 24 May 2026\, organised by the Ayuntamiento de Pinoso with Trifitness 31 and NTR Entrenamientos. The official page lists a 14 km sprint course plus 7.7 km short and walking options\, all starting from the Pabellón Enrique Tierno Galván\, with public online registration through 19 May 2026.
LOCATION:Pinoso\, Alicante\, Comunidad Valenciana
URL:https://sportplan.vercel.app/da/events/i-trail-pinoso-pinoso-2026-05-24
END:VEVENT
END:VCALENDAR
