BEGIN:VCALENDAR
VERSION:2.0
PRODID:-//SportPlan//Event Calendar//EN
CALSCALE:GREGORIAN
BEGIN:VEVENT
UID:f8295823-fb0a-4b00-8039-fcf5a071b1d6@sportplan.local
DTSTAMP:20260425T232106Z
DTSTART;VALUE=DATE:20260501
DTEND;VALUE=DATE:20260502
SUMMARY:I MEDIO FONDO ALTA MURGIA
DESCRIPTION:The FCI Members race page lists I MEDIO FONDO ALTA MURGIA on 1 May 2026 in Corato\, Puglia as a regional cross-country point-to-point mountain-bike event organised by A.S.D. Fusion Bike. The official listing says the race is open to all agonistic and amateur categories plus consulta entities\, excluding youth categories.
LOCATION:Corato\, Bari\, Puglia\, Italy
URL:https://sportplan.vercel.app/da/events/i-medio-fondo-alta-murgia-corato-2026-05-01
END:VEVENT
END:VCALENDAR
