BEGIN:VCALENDAR
VERSION:2.0
PRODID:-//SportPlan//Event Calendar//EN
CALSCALE:GREGORIAN
BEGIN:VEVENT
UID:976c6e97-e84b-4147-9927-86ac664e4188@sportplan.local
DTSTAMP:20260426T025130Z
DTSTART;VALUE=DATE:20260509
DTEND;VALUE=DATE:20260511
SUMMARY:HYROX Helsinki 2026
DESCRIPTION:HYROX Helsinki 2026 is an official mass-participation HYROX fitness race in Helsinki\, Finland. The official event page says HYROX is finally arriving in Finland and invites athletes to be part of the first Helsinki edition\, positioning it as an open race for regular participants across HYROX divisions.
LOCATION:Helsinki\, Uusimaa
URL:https://sportplan.vercel.app/da/events/hyrox-helsinki-2026-helsinki-2026-09-12
END:VEVENT
END:VCALENDAR
