BEGIN:VCALENDAR
VERSION:2.0
PRODID:-//SportPlan//Event Calendar//EN
CALSCALE:GREGORIAN
BEGIN:VEVENT
UID:fb96132a-c436-478a-92f8-ddf3dfe2427d@sportplan.local
DTSTAMP:20260425T212559Z
DTSTART;VALUE=DATE:20260712
DTEND;VALUE=DATE:20260713
SUMMARY:Hornoturčiansky Akvatlon 2026
DESCRIPTION:Official STÚ 2026 calendar lists Hornoturčiansky Akvatlon\, 16. ročník\, on 12.07.2026 as a Slovak youth aquathlon cup event.
LOCATION:Turiec region\, Slovakia
URL:https://sportplan.vercel.app/da/events/hornoturciansky-akvatlon-2026-2026-07-12
END:VEVENT
END:VCALENDAR
