BEGIN:VCALENDAR
VERSION:2.0
PRODID:-//SportPlan//Event Calendar//EN
CALSCALE:GREGORIAN
BEGIN:VEVENT
UID:3b91afeb-3db8-4a4e-9a30-c7508f460690@sportplan.local
DTSTAMP:20260426T010502Z
DTSTART;VALUE=DATE:20260830
DTEND;VALUE=DATE:20260831
SUMMARY:Hoka UTMB Mont-Blanc — Ycc 15K
DESCRIPTION:Hoka UTMB Mont-Blanc — Ycc 15K si terrà il 30 de agosto de 2026 a Courmayeur\, Aosta Valley. È un appuntamento ideale per partecipanti e accompagnatori che cercano un'atmosfera sportiva e ben organizzata. La distanza annunciata è di 15 km.
LOCATION:Courmayeur\, Aosta Valley
URL:https://sportplan.vercel.app/da/events/hoka-utmb-mont-blanc-ycc-15k-courmayeur-2026-08-30
END:VEVENT
END:VCALENDAR
