BEGIN:VCALENDAR
VERSION:2.0
PRODID:-//SportPlan//Event Calendar//EN
CALSCALE:GREGORIAN
BEGIN:VEVENT
UID:27cf4cdf-2931-4651-8430-c2aecf0251bd@sportplan.local
DTSTAMP:20260425T200101Z
DTSTART;VALUE=DATE:20260208
DTEND;VALUE=DATE:20260209
SUMMARY:Hiru Herri Trail
DESCRIPTION:Hiru Herri Trail is the 21-kilometre amateur trail race organised by Hiru Herri Atletiko Taldea in Huarte-Uharte\, Navarra on 8 February 2026. The official registration page lists a 21 km route with about 1\,000 metres of climb through Olloki\, Sorauren\, Zabaldika\, Orikain and Arre\, plus a separate 8 km route and youth categories on the same event morning.
LOCATION:Uharte\, Navarra
URL:https://sportplan.vercel.app/da/events/hiru-herri-trail-uharte-2026-02-08
END:VEVENT
END:VCALENDAR
