BEGIN:VCALENDAR
VERSION:2.0
PRODID:-//SportPlan//Event Calendar//EN
CALSCALE:GREGORIAN
BEGIN:VEVENT
UID:0f88293d-f399-456f-bc47-a90087cbd790@sportplan.local
DTSTAMP:20260425T230856Z
DTSTART;VALUE=DATE:20260516
DTEND;VALUE=DATE:20260517
SUMMARY:Helsinki City Run
DESCRIPTION:Helsinki City Run is part of Finland's biggest running event at Helsinki Olympic Stadium on 15-16 May 2026. The official event site says more than 20\,000 runners from over 90 countries take part across the Helsinki City Running Day races.
LOCATION:Helsinki\, Finland
URL:https://sportplan.vercel.app/da/events/helsinki-city-run-2026-05-16
END:VEVENT
END:VCALENDAR
