BEGIN:VCALENDAR
VERSION:2.0
PRODID:-//SportPlan//Event Calendar//EN
CALSCALE:GREGORIAN
BEGIN:VEVENT
UID:766043b6-3189-456f-b26f-b924eb86fbbe@sportplan.local
DTSTAMP:20260425T233030Z
DTSTART;VALUE=DATE:20260905
DTEND;VALUE=DATE:20260907
SUMMARY:Hell's Gate Challenge
DESCRIPTION:Official Kenya Cycling Race Series event page for Hell's Gate Challenge on 2026-09-05 in Hell's Gate\, Kenya. Amateur-enterable road-cycling event.
LOCATION:Hell's Gate
URL:https://sportplan.vercel.app/da/events/hell-s-gate-challenge-hell-s-gate-2026-09-05
END:VEVENT
END:VCALENDAR
