BEGIN:VCALENDAR
VERSION:2.0
PRODID:-//SportPlan//Event Calendar//EN
CALSCALE:GREGORIAN
BEGIN:VEVENT
UID:dd3093bc-4a25-49e9-be16-2a10d3ec3ba3@sportplan.local
DTSTAMP:20260425T232038Z
DTSTART;VALUE=DATE:20261114
DTEND;VALUE=DATE:20261115
SUMMARY:Hawks Nest Triathlon
DESCRIPTION:AusTriathlon lists Hawks Nest Triathlon as a public beachside event with standard\, sprint and enticer triathlon racing. The page identifies Elite Energy as organiser and links to its official site.
LOCATION:Bennetts Beach\, Hawks Nest
URL:https://sportplan.vercel.app/da/events/hawks-nest-triathlon-bennetts-beach-hawks-nest-2026-11-14
END:VEVENT
END:VCALENDAR
