BEGIN:VCALENDAR
VERSION:2.0
PRODID:-//SportPlan//Event Calendar//EN
CALSCALE:GREGORIAN
BEGIN:VEVENT
UID:a41480fb-47d0-4035-abff-83b0150dbbdc@sportplan.local
DTSTAMP:20260426T011213Z
DTSTART;VALUE=DATE:20260726
DTEND;VALUE=DATE:20260727
SUMMARY:Groundhog Run
DESCRIPTION:Groundhog Run is listed on the official Tatra Skymarathon festival site under #BiegSwistaka. The organizer presents the July mountain-running festival as a participant-facing event in the Tatras with multiple named race formats.
LOCATION:Kościelisko
URL:https://sportplan.vercel.app/da/events/groundhog-run-koscielisko-2026-07-26
END:VEVENT
END:VCALENDAR
