BEGIN:VCALENDAR
VERSION:2.0
PRODID:-//SportPlan//Event Calendar//EN
CALSCALE:GREGORIAN
BEGIN:VEVENT
UID:80fb7da2-9ed0-4ede-ae29-5ada623222a8@sportplan.local
DTSTAMP:20260425T195923Z
DTSTART;VALUE=DATE:20260315
DTEND;VALUE=DATE:20260316
SUMMARY:Great Rift Valley Challenge
DESCRIPTION:Official Kenya Cycling Race Series event page for Great Rift Valley Challenge on 2026-03-15 in Iten\, Kenya. Amateur-enterable road-cycling event.
LOCATION:Iten
URL:https://sportplan.vercel.app/da/events/great-rift-valley-challenge-iten-2026-03-15
END:VEVENT
END:VCALENDAR
