BEGIN:VCALENDAR
VERSION:2.0
PRODID:-//SportPlan//Event Calendar//EN
CALSCALE:GREGORIAN
BEGIN:VEVENT
UID:48b30daf-0ed7-46e4-9917-510071d7afdf@sportplan.local
DTSTAMP:20260425T233604Z
DTSTART;VALUE=DATE:20260826
DTEND;VALUE=DATE:20260830
SUMMARY:Great Naseby Water Race
DESCRIPTION:Great Naseby Water Race is the official multi-lap ultramarathon at Naseby Forest on 26 August 2026. The organizer site describes it as New Zealand's longest ultramarathon\, with 2026 entries open and a 32-lap endurance format starting at 8am for experienced amateur ultra participants.
LOCATION:Naseby
URL:https://sportplan.vercel.app/da/events/great-naseby-water-race-naseby-2026-08-26
END:VEVENT
END:VCALENDAR
