BEGIN:VCALENDAR
VERSION:2.0
PRODID:-//SportPlan//Event Calendar//EN
CALSCALE:GREGORIAN
BEGIN:VEVENT
UID:8e43bf60-58d8-4d77-a120-5bb6a825a747@sportplan.local
DTSTAMP:20260425T213657Z
DTSTART;VALUE=DATE:20260322
DTEND;VALUE=DATE:20260323
SUMMARY:Grand Prix Polski w Aquathlonie Rzeszów
DESCRIPTION:PZTri Grand Prix Polski w Aquathlonie stop listed on the federation calendar with youth\, junior and age-group race distances.
LOCATION:Rzeszów
URL:https://sportplan.vercel.app/da/events/grand-prix-polski-w-aquathlonie-rzeszow-rzeszow-2026-03-22
END:VEVENT
END:VCALENDAR
