BEGIN:VCALENDAR
VERSION:2.0
PRODID:-//SportPlan//Event Calendar//EN
CALSCALE:GREGORIAN
BEGIN:VEVENT
UID:bc60666f-7fae-4e6b-bff9-9521f56a5a18@sportplan.local
DTSTAMP:20260425T213656Z
DTSTART;VALUE=DATE:20260412
DTEND;VALUE=DATE:20260413
SUMMARY:Grand Prix Polski w Aquathlonie Mińsk Mazowiecki
DESCRIPTION:PZTri Grand Prix Polski w Aquathlonie stop listed on the federation calendar with youth\, junior and age-group race distances.
LOCATION:Mińsk Mazowiecki
URL:https://sportplan.vercel.app/da/events/grand-prix-polski-w-aquathlonie-minsk-mazowiecki-minsk-mazowiecki-2026-04-12
END:VEVENT
END:VCALENDAR
