BEGIN:VCALENDAR
VERSION:2.0
PRODID:-//SportPlan//Event Calendar//EN
CALSCALE:GREGORIAN
BEGIN:VEVENT
UID:9d4cc073-0aa9-4bc9-a187-38863ef72f10@sportplan.local
DTSTAMP:20260425T234113Z
DTSTART;VALUE=DATE:20261004
DTEND;VALUE=DATE:20261005
SUMMARY:Grand Nairobi Bike Race
DESCRIPTION:Official Kenya Cycling Race Series event page for Grand Nairobi Bike Race on 2026-10-04 in Nairobi\, Kenya. Amateur-enterable mountain-bike event.
LOCATION:Nairobi
URL:https://sportplan.vercel.app/da/events/grand-nairobi-bike-race-nairobi-2026-10-04
END:VEVENT
END:VCALENDAR
