BEGIN:VCALENDAR
VERSION:2.0
PRODID:-//SportPlan//Event Calendar//EN
CALSCALE:GREGORIAN
BEGIN:VEVENT
UID:a40bef5f-bf59-4209-84bf-a2470907f53f@sportplan.local
DTSTAMP:20260425T233039Z
DTSTART;VALUE=DATE:20260613
DTEND;VALUE=DATE:20260614
SUMMARY:Gran Fondo Sierra Morena 2026
DESCRIPTION:Gran Fondo Sierra Morena 2026 is the official Córdoba cycling event branded on-site as Gran Fondo Guzmán el Bueno. The official website presents it as an emblematic Sierra Morena amateur gran fondo experience combining demanding road riding\, Andalusian landscapes and a commemorative 2026 maillot for participants.
LOCATION:Córdoba
URL:https://sportplan.vercel.app/da/events/gran-fondo-sierra-morena-2026
END:VEVENT
END:VCALENDAR
