BEGIN:VCALENDAR
VERSION:2.0
PRODID:-//SportPlan//Event Calendar//EN
CALSCALE:GREGORIAN
BEGIN:VEVENT
UID:4314842d-ea91-4862-807e-464ca0f6f8c4@sportplan.local
DTSTAMP:20260425T212559Z
DTSTART;VALUE=DATE:20260425
DTEND;VALUE=DATE:20260426
SUMMARY:Gr 322 Nafarroa Xtrem
DESCRIPTION:GR322 Nafarroa Xtrem is the official Nafarroa Xtrem event in Zubiri\, with registration linked from the organizer site.
LOCATION:Navarra
URL:https://sportplan.vercel.app/da/events/gr-322-nafarroa-xtrem-n-a-2026-04-25-68k
END:VEVENT
END:VCALENDAR
