BEGIN:VCALENDAR
VERSION:2.0
PRODID:-//SportPlan//Event Calendar//EN
CALSCALE:GREGORIAN
BEGIN:VEVENT
UID:0013ee8a-21ff-4166-8dc2-0707e1271c4f@sportplan.local
DTSTAMP:20260425T232357Z
DTSTART;VALUE=DATE:20260508
DTEND;VALUE=DATE:20260509
SUMMARY:Genworth | Carescout Cap2cap Presented by Dominion Energy
DESCRIPTION:
LOCATION:Virginia Capital Trail
URL:https://sportplan.vercel.app/da/events/genworth-carescout-cap2cap-presented-by-dominion-energy-virginia-capital-trail-2026-05-08
END:VEVENT
END:VCALENDAR
