BEGIN:VCALENDAR
VERSION:2.0
PRODID:-//SportPlan//Event Calendar//EN
CALSCALE:GREGORIAN
BEGIN:VEVENT
UID:56b39936-5aeb-4e22-9d9f-fbaa3324b91c@sportplan.local
DTSTAMP:20260426T005452Z
DTSTART;VALUE=DATE:20260509
DTEND;VALUE=DATE:20260510
SUMMARY:Generali Geneva Marathon
DESCRIPTION:Generali Geneva Marathon returns on 9 May 2026 in Geneva\, with a route from the Geneva countryside toward the city and a finish near the Jet d’Eau. The official event highlights a fast\, scenic marathon experience with multiple pace groups and broad amateur participation.
LOCATION:Geneva\, Switzerland
URL:https://sportplan.vercel.app/da/events/generali-geneva-marathon-2026-05-09
END:VEVENT
END:VCALENDAR
