BEGIN:VCALENDAR
VERSION:2.0
PRODID:-//SportPlan//Event Calendar//EN
CALSCALE:GREGORIAN
BEGIN:VEVENT
UID:36912627-76ad-490b-8ed8-50e5d0753394@sportplan.local
DTSTAMP:20260425T231713Z
DTSTART;VALUE=DATE:20260425
DTEND;VALUE=DATE:20260427
SUMMARY:Evian Urban Trail
DESCRIPTION:Evian Urban Trail a lieu le 25 de avril de 2026 à Évian-les-Bains. C'est un rendez-vous intéressant pour les participants à la recherche d'un événement bien organisé dans un cadre agréable. Le parcours couvre environ 29 km. Consultez les informations officielles de l'organisateur pour les horaires\, le retrait des dossards et les détails logistiques.
LOCATION:Évian-les-Bains
URL:https://sportplan.vercel.app/da/events/evian-urban-trail-evian-les-bains-2026-04-25
END:VEVENT
END:VCALENDAR
