BEGIN:VCALENDAR
VERSION:2.0
PRODID:-//SportPlan//Event Calendar//EN
CALSCALE:GREGORIAN
BEGIN:VEVENT
UID:bb28e1b0-57a0-4d3e-95c4-ed3806d9ee3d@sportplan.local
DTSTAMP:20260425T232225Z
DTSTART;VALUE=DATE:20261213
DTEND;VALUE=DATE:20261214
SUMMARY:Eurosport HopeXchange 10K 2026
DESCRIPTION:The official Malta Marathon organizer pages list the 2026 Eurosport HopeXchange 5K\, 10K and Kids Race on Sunday 13 December 2026. The official race and route information confirms the open amateur event starts and finishes in Triq Salvu Psaila\, Birkirkara\, with online registration\, a 10K option for athletes aged 15+\, and organizer-published route and award details.
LOCATION:Triq Salvu Psaila\, Birkirkara
URL:https://sportplan.vercel.app/da/events/eurosport-hopexchange-10k-2026-birkirkara-2026-12-13
END:VEVENT
END:VCALENDAR
