BEGIN:VCALENDAR
VERSION:2.0
PRODID:-//SportPlan//Event Calendar//EN
CALSCALE:GREGORIAN
BEGIN:VEVENT
UID:ae6d60b1-c323-4a7f-981e-c5d23b286264@sportplan.local
DTSTAMP:20260426T030536Z
DTSTART;VALUE=DATE:20260905
DTEND;VALUE=DATE:20260906
SUMMARY:Europatrail Brussels
DESCRIPTION:Europatrail Brussels a lieu à Uccle le 5 de septembre de 2026\, en réunissant les participants pour une journée sportive dans une belle ambiance. L'événement promet une expérience bien rythmée\, un peloton motivé et une atmosphère locale conviviale.
LOCATION:Uccle
URL:https://sportplan.vercel.app/da/events/europatrail-brussels-uccle-2026-09-05
END:VEVENT
END:VCALENDAR
