BEGIN:VCALENDAR
VERSION:2.0
PRODID:-//SportPlan//Event Calendar//EN
CALSCALE:GREGORIAN
BEGIN:VEVENT
UID:12b71892-4bb4-4f1e-94fd-9554112a5785@sportplan.local
DTSTAMP:20260425T234107Z
DTSTART;VALUE=DATE:20261018
DTEND;VALUE=DATE:20261019
SUMMARY:Eldama Ravine Classic - KCRS Event + Western Kenya KCRS mini-series Event 1
DESCRIPTION:Official Kenya Cycling Race Series event page for Eldama Ravine Classic - KCRS Event + Western Kenya KCRS mini-series Event 1 on 2026-10-18 in Eldama Ravine\, Kenya. Amateur-enterable road-cycling event.
LOCATION:Eldama Ravine
URL:https://sportplan.vercel.app/da/events/eldama-ravine-classic-kcrs-event-western-kenya-kcrs-mini-series-event-1-eldama-ravine-2026-10-18
END:VEVENT
END:VCALENDAR
