BEGIN:VCALENDAR
VERSION:2.0
PRODID:-//SportPlan//Event Calendar//EN
CALSCALE:GREGORIAN
BEGIN:VEVENT
UID:7c120dfb-c9ef-41d1-9cab-e506da9d1283@sportplan.local
DTSTAMP:20260425T233757Z
DTSTART;VALUE=DATE:20260503
DTEND;VALUE=DATE:20260504
SUMMARY:Durban International Marathon 2026 – 42km & 10km
DESCRIPTION:Official Durban International Marathon site lists the 42.2km and 10km races on 3 May 2026 at 06:30\, presented by Newlands AC and incorporating the 2026 CAA-Southern Regional Marathon Championships.
LOCATION:Durban (Prospecton Road → Moses Mabhida People's Park)\, KwaZulu-Natal\, South Africa
URL:https://sportplan.vercel.app/da/events/durban-international-marathon-2026-42km-10km-2026-05-03
END:VEVENT
END:VCALENDAR
